BEGIN:VCALENDAR
VERSION:2.0
PRODID:-//Intand Corporation//Tandem//EN
METHOD:PUBLISH
BEGIN:VEVENT
DTSTAMP:20260421T232332Z
DTSTART:20260512T163000Z
DTEND:20260512T180000Z
TRANSP:TRANSPARENT
PRIORITY:0
SUMMARY:World Soccer Cup
LOCATION:GPHS Mel Ingram Football Field
DESCRIPTION:Groups:\nGPHS Foreign Language Arts\n\nSchools:\nGrants Pass H
 igh School \n\nLocation:\nGPHS Mel Ingram Football Field\n\n
URL;VALUE=URI:https://grantspass.tandem.co/index.php?type=view&action=even
 t&id=97880
CREATED:20260417T161017Z
LAST-MODIFIED:20260417T161017Z
UID:event-97880-grantspasshigh@intand.com
END:VEVENT
END:VCALENDAR
