BEGIN:VCALENDAR
VERSION:2.0
PRODID:-//Intand Corporation//Tandem//EN
METHOD:PUBLISH
BEGIN:VEVENT
DTSTAMP:20260421T232333Z
DTSTART:20260508T200000Z
DTEND:20260509T003000Z
TRANSP:TRANSPARENT
PRIORITY:0
SUMMARY:V/JV Baseball vs South Eugene
LOCATION:GPHS Baseball Field\, GPHS JV Baseball Field
DESCRIPTION:Groups:\nGPHS Baseball Varsity\nGPHS Baseball JV\n\nSchools:\n
 Grants Pass High School \n\nLocations:\nGPHS Baseball Field\nGPHS JV Baseb
 all Field\n\n
URL;VALUE=URI:https://grantspass.tandem.co/index.php?type=view&action=even
 t&id=97871
CREATED:20260417T155156Z
LAST-MODIFIED:20260417T155156Z
UID:event-97871-grantspasshigh@intand.com
END:VEVENT
END:VCALENDAR
