BEGIN:VCALENDAR
VERSION:2.0
PRODID:-//Intand Corporation//Tandem//EN
METHOD:PUBLISH
BEGIN:VEVENT
DTSTAMP:20260422T023628Z
DTSTART:20270217T003000Z
DTEND:20270217T040000Z
TRANSP:TRANSPARENT
PRIORITY:0
SUMMARY:MS Honor Orchestra/5th grade night
LOCATION:Grants Pass High School PAC\, GPHS Commons
DESCRIPTION:Groups:\nGPHS Orchestra\n\nSchools:\nGrants Pass High School \
 n\nLocations:\nGrants Pass High School PAC\nGPHS Commons\n\n
URL;VALUE=URI:https://grantspass.tandem.co/index.php?type=view&action=even
 t&id=97743
CREATED:20260414T212705Z
LAST-MODIFIED:20260415T205848Z
UID:event-97743-grantspasshigh@intand.com
END:VEVENT
END:VCALENDAR
