BEGIN:VCALENDAR
VERSION:2.0
PRODID:-//Intand Corporation//Tandem//EN
METHOD:PUBLISH
BEGIN:VEVENT
DTSTAMP:20260422T014443Z
DTSTART:20270407T020000Z
DTEND:20270407T040000Z
TRANSP:TRANSPARENT
PRIORITY:0
SUMMARY:GPHS Choir Spring Concert
LOCATION:Grants Pass High School PAC
DESCRIPTION:Setup: 4:00 pm\nBreakdown: 9:30 pm\n\nGroups:\nGPHS Choir\n\nS
 chools:\nGrants Pass High School \n\nLocation:\nGrants Pass High School PA
 C\n\n
URL;VALUE=URI:https://grantspass.tandem.co/index.php?type=view&action=even
 t&id=97608
CREATED:20260414T220616Z
LAST-MODIFIED:20260414T220616Z
UID:event-97608-grantspasshigh@intand.com
END:VEVENT
END:VCALENDAR
