BEGIN:VCALENDAR
VERSION:2.0
PRODID:-//Intand Corporation//Tandem//EN
METHOD:PUBLISH
BEGIN:VEVENT
DTSTAMP:20260422T022651Z
DTSTART:20270409T020000Z
DTEND:20270409T040000Z
TRANSP:TRANSPARENT
PRIORITY:0
SUMMARY:North Middle band concert
LOCATION:Grants Pass High School PAC
DESCRIPTION:Setup: 5:00 pm\nBreakdown: 9:30 pm\n\nGroups:\nNorth MS Orches
 tra\nNorth MS Choir\n\nSchools:\nNorth Middle School\nGrants Pass High Sch
 ool \n\nLocation:\nGrants Pass High School PAC\n\n
URL;VALUE=URI:https://grantspass.tandem.co/index.php?type=view&action=even
 t&id=97602
CREATED:20260414T220316Z
LAST-MODIFIED:20260414T220316Z
UID:event-97602-grantspasshigh@intand.com
END:VEVENT
END:VCALENDAR
