BEGIN:VCALENDAR
VERSION:2.0
PRODID:-//Intand Corporation//Tandem//EN
METHOD:PUBLISH
BEGIN:VEVENT
DTSTAMP:20260422T024021Z
DTSTART:20270317T010000Z
DTEND:20270317T020000Z
TRANSP:TRANSPARENT
PRIORITY:0
SUMMARY:Middle School Choir
LOCATION:GPHS PAC Stage\, GPHS PAC Choir room/Lecture Hall\, GPHS PAC Dram
 a Room\, GPHS PAC Lobby
DESCRIPTION:Setup: 5:00 pm\nBreakdown: 8:00 pm\n\nGroups:\nSMS Choir\nNort
 h MS Choir\n\nSchools:\nSouth Middle School\nNorth Middle School\nGrants P
 ass High School \n\nLocations:\nGPHS PAC Stage\nGPHS PAC Choir room/Lectur
 e Hall\nGPHS PAC Drama Room\nGPHS PAC Lobby\n\n
URL;VALUE=URI:https://grantspass.tandem.co/index.php?type=view&action=even
 t&id=97588
CREATED:20260414T215520Z
LAST-MODIFIED:20260414T215520Z
UID:event-97588-grantspasshigh@intand.com
END:VEVENT
END:VCALENDAR
