BEGIN:VCALENDAR
VERSION:2.0
PRODID:-//Intand Corporation//Tandem//EN
METHOD:PUBLISH
BEGIN:VEVENT
DTSTAMP:20260422T023000Z
DTSTART;VALUE=DATE:20270227
DTEND;VALUE=DATE:20270228
TRANSP:TRANSPARENT
PRIORITY:0
SUMMARY:Theater Rehearsal
LOCATION:GPHS PAC Stage\, GPHS PAC Drama Room
DESCRIPTION:Groups:\nGPHS Drama\n\nSchools:\nGrants Pass High School \n\nL
 ocations:\nGPHS PAC Stage\nGPHS PAC Drama Room\n\n
URL;VALUE=URI:https://grantspass.tandem.co/index.php?type=view&action=even
 t&id=97584
CREATED:20260414T215109Z
LAST-MODIFIED:20260414T215109Z
UID:event-97584-grantspasshigh@intand.com
END:VEVENT
END:VCALENDAR
