BEGIN:VCALENDAR
VERSION:2.0
PRODID:-//Intand Corporation//Tandem//EN
METHOD:PUBLISH
BEGIN:VEVENT
DTSTAMP:20260422T022952Z
DTSTART:20260929T230000Z
DTEND:20260930T013000Z
TRANSP:TRANSPARENT
PRIORITY:0
SUMMARY:Drama Musical rehearsal
LOCATION:GPHS PAC Stage\, GPHS PAC Drama Room
DESCRIPTION:Groups:\nGPHS Drama\n\nSchools:\nGrants Pass High School \n\nL
 ocations:\nGPHS PAC Stage\nGPHS PAC Drama Room\n\n
URL;VALUE=URI:https://grantspass.tandem.co/index.php?type=view&action=even
 t&id=97351
CREATED:20260413T202728Z
LAST-MODIFIED:20260413T202728Z
UID:event-97351-grantspasshigh@intand.com
END:VEVENT
END:VCALENDAR
