BEGIN:VCALENDAR
VERSION:2.0
PRODID:-//Intand Corporation//Tandem//EN
METHOD:PUBLISH
BEGIN:VEVENT
DTSTAMP:20260422T022923Z
DTSTART:20261106T000000Z
DTEND:20261106T020000Z
TRANSP:TRANSPARENT
PRIORITY:0
SUMMARY:Percussion/Guard
LOCATION:GPHS PAC Band Room
DESCRIPTION:Groups:\nGPHS Band\n\nSchools:\nGrants Pass High School \n\nLo
 cation:\nGPHS PAC Band Room\n\n
URL;VALUE=URI:https://grantspass.tandem.co/index.php?type=view&action=even
 t&id=97328
CREATED:20260413T193726Z
LAST-MODIFIED:20260413T193726Z
UID:event-97328-grantspasshigh@intand.com
END:VEVENT
END:VCALENDAR
