BEGIN:VCALENDAR
VERSION:2.0
PRODID:-//Intand Corporation//Tandem//EN
METHOD:PUBLISH
BEGIN:VEVENT
DTSTAMP:20260422T040942Z
DTSTART:20260925T020000Z
DTEND:20260925T033000Z
TRANSP:TRANSPARENT
PRIORITY:0
SUMMARY:GP museum event - Rough Romance
LOCATION:GPHS PAC Stage\, GPHS PAC Dressing Rooms\, GPHS PAC Lobby
DESCRIPTION:Setup: 4:00 pm\nBreakdown: 9:00 pm\n\nGroups:\nGrants Pass Mus
 eum of Art\n\nSchools:\nGrants Pass High School \n\nLocations:\nGPHS PAC S
 tage\nGPHS PAC Dressing Rooms\nGPHS PAC Lobby\n\n
URL;VALUE=URI:https://grantspass.tandem.co/index.php?type=view&action=even
 t&id=97055
CREATED:20260318T223251Z
LAST-MODIFIED:20260413T201147Z
UID:event-97055-grantspasshigh@intand.com
END:VEVENT
END:VCALENDAR
