BEGIN:VCALENDAR
VERSION:2.0
PRODID:-//Intand Corporation//Tandem//EN
METHOD:PUBLISH
BEGIN:VEVENT
DTSTAMP:20260422T040307Z
DTSTART;VALUE=DATE:20270317
DTEND;VALUE=DATE:20270318
TRANSP:TRANSPARENT
PRIORITY:0
SUMMARY:St. Patrick's Day
DESCRIPTION:Key Date\n\nSchools:\nAll Schools\n\n
URL;VALUE=URI:https://grantspass.tandem.co/index.php?type=key_date&action=
 details&id=96714
CREATED:20260221T173416Z
LAST-MODIFIED:20260221T173416Z
UID:keydate-96714-grantspasshigh@intand.com
END:VEVENT
END:VCALENDAR
