BEGIN:VCALENDAR
VERSION:2.0
PRODID:-//Intand Corporation//Tandem//EN
METHOD:PUBLISH
BEGIN:VEVENT
DTSTAMP:20260421T231640Z
DTSTART:20260423T180000Z
DTEND:20260423T210000Z
TRANSP:TRANSPARENT
PRIORITY:0
SUMMARY:U of O Choir visit
LOCATION:GPHS PAC Stage\, GPHS PAC Choir room/Lecture Hall
DESCRIPTION:Groups:\nGPHS Choir\n\nSchools:\nGrants Pass High School \n\nL
 ocations:\nGPHS PAC Stage\nGPHS PAC Choir room/Lecture Hall\n\n
URL;VALUE=URI:https://grantspass.tandem.co/index.php?type=view&action=even
 t&id=96466
CREATED:20260121T183724Z
LAST-MODIFIED:20260421T172709Z
UID:event-96466-grantspasshigh@intand.com
END:VEVENT
END:VCALENDAR
