BEGIN:VCALENDAR
VERSION:2.0
PRODID:-//Intand Corporation//Tandem//EN
METHOD:PUBLISH
BEGIN:VEVENT
DTSTAMP:20260422T041157Z
DTSTART:20270515T230000Z
DTEND:20270516T040000Z
TRANSP:TRANSPARENT
PRIORITY:0
SUMMARY:YSSO Concert
LOCATION:GPHS PAC Stage\, GPHS PAC Drama Room\, GPHS PAC Orchestra Room\, 
 GPHS PAC Lobby
DESCRIPTION:Groups:\nYouth Symphony (YSSO)\n\nSchools:\nGrants Pass High S
 chool \n\nLocations:\nGPHS PAC Stage\nGPHS PAC Drama Room\nGPHS PAC Orches
 tra Room\nGPHS PAC Lobby\n\n
URL;VALUE=URI:https://grantspass.tandem.co/index.php?type=view&action=even
 t&id=96382
CREATED:20260113T184050Z
LAST-MODIFIED:20260415T210447Z
UID:event-96382-grantspasshigh@intand.com
END:VEVENT
END:VCALENDAR
