BEGIN:VCALENDAR
VERSION:2.0
PRODID:-//Intand Corporation//Tandem//EN
METHOD:PUBLISH
BEGIN:VEVENT
DTSTAMP:20260422T041405Z
DTSTART;VALUE=DATE:20260520
DTEND;VALUE=DATE:20260521
TRANSP:TRANSPARENT
PRIORITY:0
SUMMARY:GPHS Art Show
LOCATION:GPHS Commons
DESCRIPTION:Groups:\nGPHS Art Class\n\nSchools:\nGrants Pass High School \
 n\nLocation:\nGPHS Commons\n\n
URL;VALUE=URI:https://grantspass.tandem.co/index.php?type=view&action=even
 t&id=92867
CREATED:20250616T210222Z
LAST-MODIFIED:20250616T210222Z
UID:event-92867-grantspasshigh@intand.com
END:VEVENT
END:VCALENDAR
