BEGIN:VCALENDAR
VERSION:2.0
PRODID:-//Intand Corporation//Tandem//EN
METHOD:PUBLISH
BEGIN:VEVENT
DTSTAMP:20260422T002439Z
DTSTART:20220929T223000Z
DTEND:20220929T233000Z
TRANSP:TRANSPARENT
PRIORITY:0
SUMMARY:NMS Volleyball Pictures
LOCATION:North MS Main Gym
DESCRIPTION:Groups:\nNorth MS Volleyball Varsity\nNorth MS Volleyball JV\n
 \nSchools:\nNorth Middle School\n\nLocation:\nNorth MS Main Gym\n\n
URL;VALUE=URI:https://grantspass.tandem.co/index.php?type=view&action=even
 t&id=79154
CREATED:20220925T221424Z
LAST-MODIFIED:20220925T221424Z
UID:event-79154-grantspasshigh@intand.com
END:VEVENT
END:VCALENDAR
