BEGIN:VCALENDAR
VERSION:2.0
PRODID:-//Intand Corporation//Tandem//EN
METHOD:PUBLISH
BEGIN:VEVENT
DTSTAMP:20260422T003752Z
DTSTART:20220930T020000Z
DTEND:20220930T040000Z
TRANSP:TRANSPARENT
PRIORITY:0
SUMMARY:AAU Girls Basketball
LOCATION:South MS Main Gym
DESCRIPTION:Groups:\nAAU Girls Basketball\n\nSchools:\nSouth Middle School
 \n\nLocation:\nSouth MS Main Gym\n\n
URL;VALUE=URI:https://grantspass.tandem.co/index.php?type=view&action=even
 t&id=78939
CREATED:20220922T145716Z
LAST-MODIFIED:20220922T145716Z
UID:event-78939-grantspasshigh@intand.com
END:VEVENT
END:VCALENDAR
