BEGIN:VCALENDAR
VERSION:2.0
PRODID:-//Intand Corporation//Tandem//EN
METHOD:PUBLISH
BEGIN:VEVENT
DTSTAMP:20260422T003504Z
DTSTART:20220927T014500Z
DTEND:20220927T031500Z
TRANSP:TRANSPARENT
PRIORITY:0
SUMMARY:AAU Girls Basketball Practice 
LOCATION:GPHS Main Gym\, GPHS PE Gym
DESCRIPTION:Groups:\nAAU Girls Basketball\n\nSchools:\nGrants Pass High Sc
 hool \n\nLocations:\nGPHS Main Gym\nGPHS PE Gym\n\n
URL;VALUE=URI:https://grantspass.tandem.co/index.php?type=view&action=even
 t&id=78800
CREATED:20220919T145458Z
LAST-MODIFIED:20220919T145458Z
UID:event-78800-grantspasshigh@intand.com
END:VEVENT
END:VCALENDAR
