BEGIN:VCALENDAR
VERSION:2.0
PRODID:-//Intand Corporation//Tandem//EN
METHOD:PUBLISH
BEGIN:VEVENT
DTSTAMP:20260422T014614Z
DTSTART:20220921T233000Z
DTEND:20220922T010000Z
TRANSP:TRANSPARENT
PRIORITY:0
SUMMARY:SMS Volleyball 7/8 Silver
LOCATION:Cascade Christian High School
DESCRIPTION:South at Cascade Christian\n\nGroups:\nSMS Volleyball 7th Grad
 e Silver 1\nSMS Volleyball 7th Grade Varsity Gold\n\nSchools:\nSouth Middl
 e School\nCascade Christian High School\n\nLocation:\nCascade Christian Hi
 gh School\n\n
URL;VALUE=URI:https://grantspass.tandem.co/index.php?type=view&action=even
 t&id=78794
CREATED:20220918T202313Z
LAST-MODIFIED:20220918T202313Z
UID:event-78794-grantspasshigh@intand.com
END:VEVENT
END:VCALENDAR
