BEGIN:VCALENDAR
VERSION:2.0
PRODID:-//Intand Corporation//Tandem//EN
METHOD:PUBLISH
BEGIN:VEVENT
DTSTAMP:20260422T002444Z
DTSTART:20220908T223000Z
DTEND:20220909T003000Z
TRANSP:TRANSPARENT
PRIORITY:0
SUMMARY:Royalettes
LOCATION:GPHS PAC Dressing Rooms
DESCRIPTION:Groups:\nGPHS Royalettes\n\nSchools:\nGrants Pass High School 
 \n\nLocation:\nGPHS PAC Dressing Rooms\n\n
URL;VALUE=URI:https://grantspass.tandem.co/index.php?type=view&action=even
 t&id=78447
CREATED:20220830T171845Z
LAST-MODIFIED:20220830T171845Z
UID:event-78447-grantspasshigh@intand.com
END:VEVENT
END:VCALENDAR
