BEGIN:VCALENDAR
VERSION:2.0
PRODID:-//Intand Corporation//Tandem//EN
METHOD:PUBLISH
BEGIN:VEVENT
DTSTAMP:20260422T013036Z
DTSTART:20220928T223000Z
DTEND:20220929T010000Z
TRANSP:TRANSPARENT
PRIORITY:0
SUMMARY:GPHS Football
LOCATION:GPHS Mel Ingram Football Field
DESCRIPTION:Groups:\nGPHS Football\n\nSchools:\nGrants Pass High School \n
 \nLocation:\nGPHS Mel Ingram Football Field\n\n
URL;VALUE=URI:https://grantspass.tandem.co/index.php?type=view&action=even
 t&id=77987
CREATED:20220627T222442Z
LAST-MODIFIED:20220627T222442Z
UID:event-77987-grantspasshigh@intand.com
END:VEVENT
END:VCALENDAR
