BEGIN:VCALENDAR
VERSION:2.0
PRODID:-//Intand Corporation//Tandem//EN
METHOD:PUBLISH
BEGIN:VEVENT
DTSTAMP:20260422T001631Z
DTSTART:20220926T223000Z
DTEND:20220927T010000Z
TRANSP:TRANSPARENT
PRIORITY:0
SUMMARY:All State Choir Auditions
LOCATION:GPHS PAC Choir room/Lecture Hall
DESCRIPTION:Groups:\nGPHS Choir\n\nSchools:\nGrants Pass High School \n\nL
 ocation:\nGPHS PAC Choir room/Lecture Hall\n\n
URL;VALUE=URI:https://grantspass.tandem.co/index.php?type=view&action=even
 t&id=77007
CREATED:20220418T171558Z
LAST-MODIFIED:20220907T162427Z
UID:event-77007-grantspasshigh@intand.com
END:VEVENT
END:VCALENDAR
