BEGIN:VCALENDAR
VERSION:2.0
PRODID:-//Intand Corporation//Tandem//EN
METHOD:PUBLISH
BEGIN:VEVENT
DTSTAMP:20260422T003600Z
DTSTART:20220922T010000Z
DTEND:20220922T040000Z
TRANSP:TRANSPARENT
PRIORITY:0
SUMMARY:Band rehearsal
LOCATION:GPHS PAC Band Room
DESCRIPTION:Groups:\nGPHS Marching Band\n\nSchools:\nGrants Pass High Scho
 ol \n\nLocation:\nGPHS PAC Band Room\n\n
URL;VALUE=URI:https://grantspass.tandem.co/index.php?type=view&action=even
 t&id=76661
CREATED:20220411T170033Z
LAST-MODIFIED:20220411T170033Z
UID:event-76661-grantspasshigh@intand.com
END:VEVENT
END:VCALENDAR
