BEGIN:VCALENDAR
VERSION:2.0
PRODID:-//Intand Corporation//Tandem//EN
METHOD:PUBLISH
BEGIN:VEVENT
DTSTAMP:20260422T013738Z
DTSTART:20110520T223000Z
DTEND:20110521T003000Z
TRANSP:TRANSPARENT
PRIORITY:0
SUMMARY:Royalette Try-outs
LOCATION:GPHS Main Gym
DESCRIPTION:Groups:\nRoyalettes\n\nSchools:\nGrants Pass High School \n\nL
 ocation:\nGPHS Main Gym\n\n
URL;VALUE=URI:https://grantspass.tandem.co/index.php?type=view&action=even
 t&id=7144
CREATED:20110502T162805Z
LAST-MODIFIED:20110502T162805Z
UID:event-7144-grantspasshigh@intand.com
END:VEVENT
END:VCALENDAR
