BEGIN:VCALENDAR
VERSION:2.0
PRODID:-//Intand Corporation//Tandem//EN
METHOD:PUBLISH
BEGIN:VEVENT
DTSTAMP:20260422T013015Z
DTSTART:20110508T013000Z
DTEND:20110508T033000Z
TRANSP:TRANSPARENT
PRIORITY:0
SUMMARY:GPHS FBLA Banquet
LOCATION:GPHS Commons
DESCRIPTION:Setup: 5:00 pm\nBreakdown: 9:00 pm\n\nGroups:\nGPHS FBLA\n\nSc
 hools:\nGrants Pass High School \n\nLocation:\nGPHS Commons\n\n
URL;VALUE=URI:https://grantspass.tandem.co/index.php?type=view&action=even
 t&id=7055
CREATED:20110414T144225Z
LAST-MODIFIED:20110414T144225Z
UID:event-7055-grantspasshigh@intand.com
END:VEVENT
END:VCALENDAR
