BEGIN:VCALENDAR
VERSION:2.0
PRODID:-//Intand Corporation//Tandem//EN
METHOD:PUBLISH
BEGIN:VEVENT
DTSTAMP:20260422T003406Z
DTSTART:20110419T013000Z
DTEND:20110419T033000Z
TRANSP:TRANSPARENT
PRIORITY:0
SUMMARY:GPHS German Club Parent Meeting
LOCATION:GPHS Core Building - Room 113
DESCRIPTION:Groups:\nGPHS German Club\n\nSchools:\nGrants Pass High School
  \n\nLocation:\nGPHS Core Building - Room 113\n\n
URL;VALUE=URI:https://grantspass.tandem.co/index.php?type=view&action=even
 t&id=7051
CREATED:20110413T175222Z
LAST-MODIFIED:20110413T175222Z
UID:event-7051-grantspasshigh@intand.com
END:VEVENT
END:VCALENDAR
