BEGIN:VCALENDAR
VERSION:2.0
PRODID:-//Intand Corporation//Tandem//EN
METHOD:PUBLISH
BEGIN:VEVENT
DTSTAMP:20260422T003711Z
DTSTART:20110416T220000Z
DTEND:20110417T010000Z
TRANSP:TRANSPARENT
PRIORITY:0
SUMMARY:GPYSC
LOCATION:GPHS Mel Ingram Football Field
DESCRIPTION:Groups:\nGPYSC- soccer\n\nSchools:\nGrants Pass High School \n
 \nLocation:\nGPHS Mel Ingram Football Field\n\n
URL;VALUE=URI:https://grantspass.tandem.co/index.php?type=view&action=even
 t&id=6936
CREATED:20110412T200329Z
LAST-MODIFIED:20110412T200329Z
UID:event-6936-grantspasshigh@intand.com
END:VEVENT
END:VCALENDAR
