BEGIN:VCALENDAR
VERSION:2.0
PRODID:-//Intand Corporation//Tandem//EN
METHOD:PUBLISH
BEGIN:VEVENT
DTSTAMP:20260422T001549Z
DTSTART:20110518T013000Z
DTEND:20110519T023000Z
TRANSP:TRANSPARENT
PRIORITY:0
SUMMARY:No Gym Use-Family Fitness Night
LOCATION:Allen Dale Gym
DESCRIPTION:Groups:\nAllen Dale Elementary School Grade 1\nAllen Dale Elem
 entary School Grade 2\n\nSchools:\nAllen Dale Elementary School\n\nLocatio
 n:\nAllen Dale Gym\n\n
URL;VALUE=URI:https://grantspass.tandem.co/index.php?type=view&action=even
 t&id=6767
CREATED:20110331T145714Z
LAST-MODIFIED:20110412T192006Z
UID:event-6767-grantspasshigh@intand.com
END:VEVENT
END:VCALENDAR
