BEGIN:VCALENDAR
VERSION:2.0
PRODID:-//Intand Corporation//Tandem//EN
METHOD:PUBLISH
BEGIN:VEVENT
DTSTAMP:20260422T002435Z
DTSTART;VALUE=DATE:20110510
DTEND;VALUE=DATE:20110513
TRANSP:TRANSPARENT
PRIORITY:0
SUMMARY:No Gym Use - Program
LOCATION:Allen Dale Elementary School
DESCRIPTION:2nd grade rehearsal and Program\n\nGroups:\nAllen Dale Element
 ary School Grade 2\n\nSchools:\nAllen Dale Elementary School\n\nLocation:\
 nAllen Dale Elementary School\n\n
URL;VALUE=URI:https://grantspass.tandem.co/index.php?type=view&action=even
 t&id=6723
CREATED:20110329T191259Z
LAST-MODIFIED:20110329T201931Z
UID:event-6723-grantspasshigh@intand.com
END:VEVENT
END:VCALENDAR
