BEGIN:VCALENDAR
VERSION:2.0
PRODID:-//Intand Corporation//Tandem//EN
METHOD:PUBLISH
BEGIN:VEVENT
DTSTAMP:20260422T013003Z
DTSTART:20110310T164000Z
DTEND:20110310T173000Z
TRANSP:TRANSPARENT
PRIORITY:0
SUMMARY:GPHS Academic Masters Testing - Music
LOCATION:GPHS PAC - Room 500
DESCRIPTION:Groups:\nAcademic Masters\n\nSchools:\nGrants Pass High School
  \n\nLocation:\nGPHS PAC - Room 500\n\n
URL;VALUE=URI:https://grantspass.tandem.co/index.php?type=view&action=even
 t&id=6417
CREATED:20110309T181438Z
LAST-MODIFIED:20110309T181438Z
UID:event-6417-grantspasshigh@intand.com
END:VEVENT
END:VCALENDAR
