BEGIN:VCALENDAR
VERSION:2.0
PRODID:-//Intand Corporation//Tandem//EN
METHOD:PUBLISH
BEGIN:VEVENT
DTSTAMP:20260422T013708Z
DTSTART:20110512T223000Z
DTEND:20110512T233000Z
TRANSP:TRANSPARENT
PRIORITY:0
SUMMARY:GPHS Football
LOCATION:GPHS Weight Room
DESCRIPTION:Groups:\nGPHS Football Varsity\n\nSchools:\nGrants Pass High S
 chool \n\nLocation:\nGPHS Weight Room\n\n
URL;VALUE=URI:https://grantspass.tandem.co/index.php?type=view&action=even
 t&id=6388
CREATED:20110308T222747Z
LAST-MODIFIED:20110308T222747Z
UID:event-6388-grantspasshigh@intand.com
END:VEVENT
END:VCALENDAR
