BEGIN:VCALENDAR
VERSION:2.0
PRODID:-//Intand Corporation//Tandem//EN
METHOD:PUBLISH
BEGIN:VEVENT
DTSTAMP:20260422T013131Z
DTSTART:20110502T190000Z
DTEND:20110503T000000Z
TRANSP:TRANSPARENT
PRIORITY:0
SUMMARY:Boys Golf All SOH Match @ Roseburg Country Club
LOCATION:Roseburg Country Club
DESCRIPTION:Groups:\nGPHS Golf Boys\n\nSchools:\nGrants Pass High School \
 n\nLocation:\nRoseburg Country Club\n\n
URL;VALUE=URI:https://grantspass.tandem.co/index.php?type=view&action=even
 t&id=5927
CREATED:20110211T002633Z
LAST-MODIFIED:20110211T002633Z
UID:event-5927-grantspasshigh@intand.com
END:VEVENT
END:VCALENDAR
