BEGIN:VCALENDAR
VERSION:2.0
PRODID:-//Intand Corporation//Tandem//EN
METHOD:PUBLISH
BEGIN:VEVENT
DTSTAMP:20260422T003202Z
DTSTART:20110316T223000Z
DTEND:20110317T013000Z
TRANSP:TRANSPARENT
PRIORITY:0
SUMMARY:GPHS Track and Field Roseburg Dual @ Roseburg
LOCATION:Roseburg High School
DESCRIPTION:Groups:\nGPHS Track & Field Varsity\nGPHS Track & Field JV\n\n
 Schools:\nGrants Pass High School \nRoseburg High School\n\nLocation:\nRos
 eburg High School\n\n
URL;VALUE=URI:https://grantspass.tandem.co/index.php?type=view&action=even
 t&id=5878
CREATED:20110210T213938Z
LAST-MODIFIED:20110302T220743Z
UID:event-5878-grantspasshigh@intand.com
END:VEVENT
END:VCALENDAR
