BEGIN:VCALENDAR
VERSION:2.0
PRODID:-//Intand Corporation//Tandem//EN
METHOD:PUBLISH
BEGIN:VEVENT
DTSTAMP:20260422T003335Z
DTSTART:20110331T190000Z
DTEND:20110331T200000Z
TRANSP:TRANSPARENT
PRIORITY:0
SUMMARY:City League Basketball
LOCATION:North MS Main Gym
DESCRIPTION:Groups:\nCity of Grants Pass\n\nSchools:\nNorth Middle School\
 n\nLocation:\nNorth MS Main Gym\n\n
URL;VALUE=URI:https://grantspass.tandem.co/index.php?type=view&action=even
 t&id=5861
CREATED:20110210T181542Z
LAST-MODIFIED:20110210T181542Z
UID:event-5861-grantspasshigh@intand.com
END:VEVENT
END:VCALENDAR
