BEGIN:VCALENDAR
VERSION:2.0
PRODID:-//Intand Corporation//Tandem//EN
METHOD:PUBLISH
BEGIN:VEVENT
DTSTAMP:20260422T012944Z
DTSTART:20110407T233000Z
DTEND:20110408T013000Z
TRANSP:TRANSPARENT
PRIORITY:0
SUMMARY:[Cancelled] GPHS JV Softball w/Ashland @ Ashland
LOCATION:Ashland Varsity/JV Softball Field
DESCRIPTION:Groups:\nGPHS Softball JV\n\nSchools:\nGrants Pass High School
  \nAshland High School\n\nLocation:\nAshland Varsity/JV Softball Field\n\n
URL;VALUE=URI:https://grantspass.tandem.co/index.php?type=view&action=even
 t&id=5834
CREATED:20110210T172511Z
LAST-MODIFIED:20110407T202858Z
UID:event-5834-grantspasshigh@intand.com
END:VEVENT
END:VCALENDAR
