BEGIN:VCALENDAR
VERSION:2.0
PRODID:-//Intand Corporation//Tandem//EN
METHOD:PUBLISH
BEGIN:VEVENT
DTSTAMP:20260422T012915Z
DTSTART:20110405T233000Z
DTEND:20110406T013000Z
TRANSP:TRANSPARENT
PRIORITY:0
SUMMARY:[Cancelled] GPHS JV Softball w/Crater @ Reinhart Volunteer Park Fi
 eld #1\, GP
LOCATION:Reinhart Volunteer Park Field #1
DESCRIPTION:Groups:\nGPHS Softball JV\n\nSchools:\nGrants Pass High School
  \nCrater High School\n\nLocation:\nReinhart Volunteer Park Field #1\n\n
URL;VALUE=URI:https://grantspass.tandem.co/index.php?type=view&action=even
 t&id=5833
CREATED:20110210T172511Z
LAST-MODIFIED:20110405T173907Z
UID:event-5833-grantspasshigh@intand.com
END:VEVENT
END:VCALENDAR
