BEGIN:VCALENDAR
VERSION:2.0
PRODID:-//Intand Corporation//Tandem//EN
METHOD:PUBLISH
BEGIN:VEVENT
DTSTAMP:20260422T003200Z
DTSTART:20110505T233000Z
DTEND:20110506T020000Z
TRANSP:TRANSPARENT
PRIORITY:0
SUMMARY:GPHS Boys Tennis w/Thurston @ GPHS
LOCATION:Grants Pass High School 
DESCRIPTION:Groups:\nGPHS Tennis Boys\n\nSchools:\nGrants Pass High School
  \nThurston High School\n\nLocation:\nGrants Pass High School \n\n
URL;VALUE=URI:https://grantspass.tandem.co/index.php?type=view&action=even
 t&id=5768
CREATED:20110210T000352Z
LAST-MODIFIED:20110415T180546Z
UID:event-5768-grantspasshigh@intand.com
END:VEVENT
END:VCALENDAR
