BEGIN:VCALENDAR
VERSION:2.0
PRODID:-//Intand Corporation//Tandem//EN
METHOD:PUBLISH
BEGIN:VEVENT
DTSTAMP:20260422T013003Z
DTSTART:20110512T233000Z
DTEND:20110513T013000Z
TRANSP:TRANSPARENT
PRIORITY:0
SUMMARY:GPHS JV Baseball @ Hidden Valley
LOCATION:Hidden Valley High School
DESCRIPTION:Groups:\nGPHS Baseball JV\n\nSchools:\nGrants Pass High School
  \n\nLocation:\nHidden Valley High School\n\n
URL;VALUE=URI:https://grantspass.tandem.co/index.php?type=view&action=even
 t&id=5649
CREATED:20110208T235708Z
LAST-MODIFIED:20110208T235708Z
UID:event-5649-grantspasshigh@intand.com
END:VEVENT
END:VCALENDAR
