BEGIN:VCALENDAR
VERSION:2.0
PRODID:-//Intand Corporation//Tandem//EN
METHOD:PUBLISH
BEGIN:VEVENT
DTSTAMP:20260422T003428Z
DTSTART:20110218T013000Z
DTEND:20110218T050000Z
TRANSP:TRANSPARENT
PRIORITY:0
SUMMARY:111 Theatre Company
LOCATION:SMS Shop
DESCRIPTION:Start time 5:30 PM to 9:00 PM\n\nGroups:\nSMS Parents\n\nSchoo
 ls:\nSouth Middle School\n\nLocation:\nSMS Shop\n\n
URL;VALUE=URI:https://grantspass.tandem.co/index.php?type=view&action=even
 t&id=5520
CREATED:20110127T230453Z
LAST-MODIFIED:20110127T230453Z
UID:event-5520-grantspasshigh@intand.com
END:VEVENT
END:VCALENDAR
