BEGIN:VCALENDAR
VERSION:2.0
PRODID:-//Intand Corporation//Tandem//EN
METHOD:PUBLISH
BEGIN:VEVENT
DTSTAMP:20260422T003459Z
DTSTART:20110129T170000Z
DTEND:20110130T000000Z
TRANSP:TRANSPARENT
PRIORITY:0
SUMMARY:Boys and Girls Basketball Practice @ SMS Main Gym
LOCATION:South MS Main Gym
DESCRIPTION:Start time 9:00 am to 4:00 pm\n\nGroups:\nSMS Faculty\n\nSchoo
 ls:\nSouth Middle School\n\nLocation:\nSouth MS Main Gym\n\n
URL;VALUE=URI:https://grantspass.tandem.co/index.php?type=view&action=even
 t&id=5493
CREATED:20110125T221257Z
LAST-MODIFIED:20110125T221257Z
UID:event-5493-grantspasshigh@intand.com
END:VEVENT
END:VCALENDAR
