BEGIN:VCALENDAR
VERSION:2.0
PRODID:-//Intand Corporation//Tandem//EN
METHOD:PUBLISH
BEGIN:VEVENT
DTSTAMP:20260422T003321Z
DTSTART:20110127T233000Z
DTEND:20110128T003000Z
TRANSP:TRANSPARENT
PRIORITY:0
SUMMARY:Winter Track
LOCATION:GPHS Mel Ingram Football Field
DESCRIPTION:Groups:\nGPHS Track & Field Varsity\nGPHS Track & Field JV\n\n
 Schools:\nGrants Pass High School \n\nLocation:\nGPHS Mel Ingram Football 
 Field\n\n
URL;VALUE=URI:https://grantspass.tandem.co/index.php?type=view&action=even
 t&id=5391
CREATED:20110111T225613Z
LAST-MODIFIED:20110111T225613Z
UID:event-5391-grantspasshigh@intand.com
END:VEVENT
END:VCALENDAR
