BEGIN:VCALENDAR
VERSION:2.0
PRODID:-//Intand Corporation//Tandem//EN
METHOD:PUBLISH
BEGIN:VEVENT
DTSTAMP:20260422T013026Z
DTSTART:20110312T020000Z
DTEND:20110312T040000Z
TRANSP:TRANSPARENT
PRIORITY:0
SUMMARY:Boys and Girls Club Basketball
LOCATION:Lincoln Gym
DESCRIPTION:Groups:\nB&G Club Basketball\n\nSchools:\nLincoln Elementary S
 chool\n\nLocation:\nLincoln Gym\n\n
URL;VALUE=URI:https://grantspass.tandem.co/index.php?type=view&action=even
 t&id=5375
CREATED:20110110T220951Z
LAST-MODIFIED:20110110T220951Z
UID:event-5375-grantspasshigh@intand.com
END:VEVENT
END:VCALENDAR
