BEGIN:VCALENDAR
VERSION:2.0
PRODID:-//Intand Corporation//Tandem//EN
METHOD:PUBLISH
BEGIN:VEVENT
DTSTAMP:20260422T001443Z
DTSTART:20110120T223000Z
DTEND:20110120T233000Z
TRANSP:TRANSPARENT
PRIORITY:0
SUMMARY:PTA/PAWS Mtg. Babysitting
LOCATION:Allen Dale Elementary School
DESCRIPTION:Groups:\nAllen Dale Elementary School PTA\n\nSchools:\nAllen D
 ale Elementary School\n\nLocation:\nAllen Dale Elementary School\n\n
URL;VALUE=URI:https://grantspass.tandem.co/index.php?type=view&action=even
 t&id=5352
CREATED:20110110T172920Z
LAST-MODIFIED:20110110T172920Z
UID:event-5352-grantspasshigh@intand.com
END:VEVENT
END:VCALENDAR
