BEGIN:VCALENDAR
VERSION:2.0
PRODID:-//Intand Corporation//Tandem//EN
METHOD:PUBLISH
BEGIN:VEVENT
DTSTAMP:20260422T013900Z
DTSTART:20110107T233000Z
DTEND:20110108T013000Z
TRANSP:TRANSPARENT
PRIORITY:0
SUMMARY:Little People's Day Care
LOCATION:Allen Dale Gym
DESCRIPTION:Groups:\nLittle Peoples Day Care\n\nSchools:\nAllen Dale Eleme
 ntary School\n\nLocation:\nAllen Dale Gym\n\n
URL;VALUE=URI:https://grantspass.tandem.co/index.php?type=view&action=even
 t&id=5320
CREATED:20110106T002712Z
LAST-MODIFIED:20110106T002712Z
UID:event-5320-grantspasshigh@intand.com
END:VEVENT
END:VCALENDAR
