BEGIN:VCALENDAR
VERSION:2.0
PRODID:-//Intand Corporation//Tandem//EN
METHOD:PUBLISH
BEGIN:VEVENT
DTSTAMP:20260422T013835Z
DTSTART:20110125T020000Z
DTEND:20110125T033000Z
TRANSP:TRANSPARENT
PRIORITY:0
SUMMARY:5th Grade PE Night
LOCATION:Redwood Gym
DESCRIPTION:Groups:\nRedwood Elementary School Grade 5\n\nSchools:\nRedwoo
 d Elementary School\n\nLocation:\nRedwood Gym\n\n
URL;VALUE=URI:https://grantspass.tandem.co/index.php?type=view&action=even
 t&id=5234
CREATED:20110105T160621Z
LAST-MODIFIED:20110105T160621Z
UID:event-5234-grantspasshigh@intand.com
END:VEVENT
END:VCALENDAR
