BEGIN:VCALENDAR
VERSION:2.0
PRODID:-//Intand Corporation//Tandem//EN
METHOD:PUBLISH
BEGIN:VEVENT
DTSTAMP:20260422T001719Z
DTSTART:20110304T010000Z
DTEND:20110304T040000Z
TRANSP:TRANSPARENT
PRIORITY:0
SUMMARY:B&G Club Basketball
LOCATION:Redwood Gym
DESCRIPTION:Groups:\nB&G Club Basketball\n\nSchools:\nRedwood Elementary S
 chool\n\nLocation:\nRedwood Gym\n\n
URL;VALUE=URI:https://grantspass.tandem.co/index.php?type=view&action=even
 t&id=5030
CREATED:20110103T222932Z
LAST-MODIFIED:20110103T222932Z
UID:event-5030-grantspasshigh@intand.com
END:VEVENT
END:VCALENDAR
