BEGIN:VCALENDAR
VERSION:2.0
PRODID:-//Intand Corporation//Tandem//EN
METHOD:PUBLISH
BEGIN:VEVENT
DTSTAMP:20260422T002431Z
DTSTART:20110404T230000Z
DTEND:20110405T010000Z
TRANSP:TRANSPARENT
PRIORITY:0
SUMMARY:SMS Library Oregon Council of Teachers Mathematics
LOCATION:South Middle School
DESCRIPTION:4:00 PM to 6:00 PM\n\nGroups:\nSMS Parents\n\nSchools:\nSouth 
 Middle School\n\nLocation:\nSouth Middle School\n\n
URL;VALUE=URI:https://grantspass.tandem.co/index.php?type=view&action=even
 t&id=4896
CREATED:20110103T214636Z
LAST-MODIFIED:20110103T214636Z
UID:event-4896-grantspasshigh@intand.com
END:VEVENT
END:VCALENDAR
