BEGIN:VCALENDAR
VERSION:2.0
PRODID:-//Intand Corporation//Tandem//EN
METHOD:PUBLISH
BEGIN:VEVENT
DTSTAMP:20260422T001545Z
DTSTART:20101228T180000Z
DTEND:20101228T200000Z
TRANSP:TRANSPARENT
PRIORITY:0
SUMMARY:AAU Boys Practice
LOCATION:South MS Main Gym
DESCRIPTION:Groups:\nAAU Boys Basketball\n\nSchools:\nGrants Pass High Sch
 ool \n\nLocation:\nSouth MS Main Gym\n\n
URL;VALUE=URI:https://grantspass.tandem.co/index.php?type=view&action=even
 t&id=4767
CREATED:20101215T174427Z
LAST-MODIFIED:20101215T174427Z
UID:event-4767-grantspasshigh@intand.com
END:VEVENT
END:VCALENDAR
