BEGIN:VCALENDAR
VERSION:2.0
PRODID:-//Intand Corporation//Tandem//EN
METHOD:PUBLISH
BEGIN:VEVENT
DTSTAMP:20260422T003607Z
DTSTART:20170415T190000Z
DTEND:20170416T063000Z
TRANSP:TRANSPARENT
PRIORITY:0
SUMMARY:Edgewater
LOCATION:GPHS Commons
DESCRIPTION:Groups:\nEdgewater Christian Fellowship\n\nSchools:\nGrants Pa
 ss High School \n\nLocation:\nGPHS Commons\n\n
URL;VALUE=URI:https://grantspass.tandem.co/index.php?type=view&action=even
 t&id=46918
CREATED:20170412T204921Z
LAST-MODIFIED:20170412T205149Z
UID:event-46918-grantspasshigh@intand.com
END:VEVENT
END:VCALENDAR
