BEGIN:VCALENDAR
VERSION:2.0
PRODID:-//Intand Corporation//Tandem//EN
METHOD:PUBLISH
BEGIN:VEVENT
DTSTAMP:20260422T003504Z
DTSTART:20170428T013000Z
DTEND:20170428T023000Z
TRANSP:TRANSPARENT
PRIORITY:0
SUMMARY:2nd Grade Performance
LOCATION:Lincoln Elementary School
DESCRIPTION:Groups:\nLincoln Elementary\n\nSchools:\nLincoln Elementary Sc
 hool\n\nLocation:\nLincoln Elementary School\n\n
URL;VALUE=URI:https://grantspass.tandem.co/index.php?type=view&action=even
 t&id=46866
CREATED:20170405T171349Z
LAST-MODIFIED:20170405T171349Z
UID:event-46866-grantspasshigh@intand.com
END:VEVENT
END:VCALENDAR
