BEGIN:VCALENDAR
VERSION:2.0
PRODID:-//Intand Corporation//Tandem//EN
METHOD:PUBLISH
BEGIN:VEVENT
DTSTAMP:20260422T013834Z
DTSTART:20170419T013000Z
DTEND:20170419T030000Z
TRANSP:TRANSPARENT
PRIORITY:0
SUMMARY:Boys AAU Practice
LOCATION:North MS Main Gym
DESCRIPTION:Todd Law's Team\n\nGroups:\nAAU Boys Basketball\n\nSchools:\nN
 orth Middle School\n\nLocation:\nNorth MS Main Gym\n\n
URL;VALUE=URI:https://grantspass.tandem.co/index.php?type=view&action=even
 t&id=46855
CREATED:20170405T164413Z
LAST-MODIFIED:20170405T164413Z
UID:event-46855-grantspasshigh@intand.com
END:VEVENT
END:VCALENDAR
